BEGIN:VCALENDAR
PRODID:-//eluceo/ical//2.0/EN
VERSION:2.0
CALSCALE:GREGORIAN
BEGIN:VEVENT
UID:event-115
DTSTAMP:20260423T032432Z
SUMMARY:Bootje varen - Lustrumcommissie
DESCRIPTION:Aankomende maandaag is het tijd voor de allereerste lustrumacti
 viteit van het net afgetrapte lustrumjaar! Met een grote groep varen door 
 de grachten van Utrecht\, onder het genot van een drankje\; wie wil dat no
 u niet? Op maandag 26 september om 19:00 vertrekt de boot vanaf de steiger
  aan de Oosterkade in Utrecht. Zien we je dan?
DTSTART:20220926T170000Z
DTEND:20220926T183000Z
LOCATION:Steiger Oosterkade
END:VEVENT
BEGIN:VTIMEZONE
TZID:UTC
BEGIN:STANDARD
DTSTART:20220926T170000
TZNAME:UTC
TZOFFSETTO:+0000
TZOFFSETFROM:+0000
END:STANDARD
END:VTIMEZONE
END:VCALENDAR
