BEGIN:VCALENDAR
PRODID:-//eluceo/ical//2.0/EN
VERSION:2.0
CALSCALE:GREGORIAN
BEGIN:VEVENT
UID:event-116
DTSTAMP:20260424T093546Z
SUMMARY:Tweedejaarsweekend November 2022
DESCRIPTION:LET OP: Alleen voor aankomend eerstejaars (start september 2022
 ) *Handig om eerst lid te worden van de MSFU "Sams" via deze site* Het leu
 kste weekend van je studententijd staat weer voor de deur! Vorig jaar kon 
 het helaas niet doorgaan\, maar dit jaar verwachten we er weer een groot f
 eest van te maken! Koop nu voor €45\,- je kaartje voor het tweedejaarswe
 ekend op 10-11-12 november 2022. Leer je medestudenten nog beter kennen t
 ijdens een weekend vol spelletjes\, feestjes en veel gezelligheid.   
DTSTART:20221110T170000Z
DTEND:20221112T130000Z
LOCATION:Someren
END:VEVENT
BEGIN:VTIMEZONE
TZID:UTC
BEGIN:STANDARD
DTSTART:20221110T170000
TZNAME:UTC
TZOFFSETTO:+0000
TZOFFSETFROM:+0000
END:STANDARD
END:VTIMEZONE
END:VCALENDAR
