BEGIN:VCALENDAR
PRODID:-//eluceo/ical//2.0/EN
VERSION:2.0
CALSCALE:GREGORIAN
BEGIN:VEVENT
UID:event-133
DTSTAMP:20260424T094019Z
SUMMARY:Lustrumweekendcie Brugge
DESCRIPTION:We gaan dit jaar op lustrumweekend naar Brugge! Jammergenoeg zi
 tten de inschrijvingen al vol. Wees niet getreurd en hou de instagram in d
 e gaten voor onze activiteiten en reizen.  
DTSTART:20221126T060000Z
DTEND:20221127T200000Z
END:VEVENT
BEGIN:VTIMEZONE
TZID:UTC
BEGIN:STANDARD
DTSTART:20221126T060000
TZNAME:UTC
TZOFFSETTO:+0000
TZOFFSETFROM:+0000
END:STANDARD
END:VTIMEZONE
END:VCALENDAR
