BEGIN:VCALENDAR
PRODID:-//eluceo/ical//2.0/EN
VERSION:2.0
CALSCALE:GREGORIAN
BEGIN:VEVENT
UID:event-134
DTSTAMP:20260424T094550Z
SUMMARY:Sinterklaasdiner - Kookcie
DESCRIPTION:**De kaartverkoop is uitverkocht binnen 75 minuten** We hopen
  je alsnog op ons volgende diner te zien\, je kan ons volgen op @kookcie.
 msfusams op instagram. Zo weet je altijd wanneer de volgende kaartverkoop 
 is! 1 december is het zover\, ons heerlijk avondje is gekomen!  Het aller
 eerste diner van de Chefs on the Beach\, met als thema Sinterklaas! Koop e
 en kaartje en geniet met ons van de heerlijke gerechten en de decembersfer
 en. Tot dan! Kusjes van de Chefs on the Beach
DTSTART:20221201T173000Z
DTEND:20221201T210000Z
LOCATION:Hamburgerstraat 27
END:VEVENT
BEGIN:VTIMEZONE
TZID:UTC
BEGIN:STANDARD
DTSTART:20221201T173000
TZNAME:UTC
TZOFFSETTO:+0000
TZOFFSETFROM:+0000
END:STANDARD
END:VTIMEZONE
END:VCALENDAR
