BEGIN:VCALENDAR
PRODID:-//eluceo/ical//2.0/EN
VERSION:2.0
CALSCALE:GREGORIAN
BEGIN:VEVENT
UID:event-192
DTSTAMP:20260421T063943Z
SUMMARY:Introfeest Geneeskunde
DESCRIPTION:
DTSTART:20230904T210000Z
DTEND:20230905T020000Z
LOCATION:De Werfkelder
END:VEVENT
BEGIN:VTIMEZONE
TZID:UTC
BEGIN:STANDARD
DTSTART:20230904T210000
TZNAME:UTC
TZOFFSETTO:+0000
TZOFFSETFROM:+0000
END:STANDARD
END:VTIMEZONE
END:VCALENDAR
