BEGIN:VCALENDAR
PRODID:-//eluceo/ical//2.0/EN
VERSION:2.0
CALSCALE:GREGORIAN
BEGIN:VEVENT
UID:event-501
DTSTAMP:20260425T150244Z
SUMMARY:Open studenten onderwijs overleg
DESCRIPTION:Heeeey\, 28 april is het weer tijd voor het Open Studenten Onde
 rwijs Overleg! Dit is open voor alle studenten\, dus ook als je niet actie
 f bent in een onderwijsorgaan \;) Kom vooraf genieten van een gratis maalt
 ijd!
DTSTART:20260428T163000Z
DTEND:20260428T200000Z
LOCATION:Hamburgerstraat 27
END:VEVENT
BEGIN:VTIMEZONE
TZID:UTC
BEGIN:STANDARD
DTSTART:20260428T163000
TZNAME:UTC
TZOFFSETTO:+0000
TZOFFSETFROM:+0000
END:STANDARD
END:VTIMEZONE
END:VCALENDAR
